BEGIN:VCALENDAR
VERSION:2.0
PRODID:-//eventon.com NONSGML v1.0//EN
CALSCALE:GREGORIAN
METHOD:PUBLISH
BEGIN:VEVENT
UID:69ecf0605a558
DTSTAMP:20260425T164832Z
DTSTART:20250201
DTEND:20250202
LOCATION:Ciudad de Cáceres
SUMMARY:Fiesta de las Candelas 2025 de Cáceres
DESCRIPTION:El sábado 1 y el domingo 2 de febrero de 2025 se celebran en C
 áceres dos de sus fiestas más señaladas\,  las Candelas y la romería de
  San Blas\,  en ambos casos con un amplio programa de actividades religiosa
 s y lúdicas. La parroquia de San Mateo celebra su tradicional festividad[.
 .]\nhttps://www.grada.es/agenda/fiesta-de-las-candelas-2025-de-caceres/
URL:https://www.grada.es/agenda/fiesta-de-las-candelas-2025-de-caceres/
END:VEVENT
END:VCALENDAR