BEGIN:VCALENDAR
VERSION:2.0
PRODID:-//eventon.com NONSGML v1.0//EN
CALSCALE:GREGORIAN
METHOD:PUBLISH
BEGIN:VEVENT
UID:69ed04b1dee5e
DTSTAMP:20260425T181513Z
DTSTART:20250201
DTEND:20250202
LOCATION:Ciudad de Cáceres
SUMMARY:Romería de San Blas 2025 en Cáceres
DESCRIPTION:El sábado 1 y el domingo 2 de febrero de 2025 se celebran en C
 áceres dos de sus fiestas más señaladas\,  las Candelas y la romería de
  San Blas\,  en ambos casos con un amplio programa de actividades religiosa
 s y lúdicas. Como es tradición\,  ambos días se ponen a la[..]\nhttps://
 www.grada.es/agenda/romeria-de-san-blas-2025-en-caceres/
URL:https://www.grada.es/agenda/romeria-de-san-blas-2025-en-caceres/
END:VEVENT
END:VCALENDAR