BEGIN:VCALENDAR
VERSION:2.0
PRODID:-//eventon.com NONSGML v1.0//EN
CALSCALE:GREGORIAN
METHOD:PUBLISH
BEGIN:VEVENT
UID:69e76893b4c7d
DTSTAMP:20260421T120747Z
DTSTART:20250731
DTEND:20250801
LOCATION:AlcÃ¡ntara
SUMMARY:XXXIX Festival de Teatro ClÃ¡sico de AlcÃ¡ntara
DESCRIPTION:La localidad cacereÃ±a de AlcÃ¡ntara acoge del 26 de julio al 3
  de agosto de 2025 la trigÃ©simo novena ediciÃ³n del Festival de Teatro ClÃ
 ¡sico\,  que ofrece representaciones de obras\,  actividades complementaria
 s y espectÃ¡culos en diversos espacios de la ciudad. El festival principal 
 se desarrolla del 31 de julio al[..]\nhttps://www.grada.es/agenda/xxxix-fes
 tival-de-teatro-clasico-de-alcantara/
URL:https://www.grada.es/agenda/xxxix-festival-de-teatro-clasico-de-alcantara/
END:VEVENT
END:VCALENDAR