BEGIN:VCALENDAR
VERSION:2.0
PRODID:-//eventon.com NONSGML v1.0//EN
CALSCALE:GREGORIAN
METHOD:PUBLISH
BEGIN:VEVENT
UID:69ea59088f359
DTSTAMP:20260423T173816Z
DTSTART:20250816T200000Z
DTEND:20250816T213000Z
LOCATION:Ciudad de Cáceres
SUMMARY:III Festival 'Encuentra la música' en Cáceres
DESCRIPTION:La Ciudad Monumental de Cáceres acoge los sábados del mes de 
 agosto de 2025\,  a las 22.00 horas\,  la tercera edición del festival &#8
 216;Encuentra la música&#8217;\,  compuesto por una serie de microconciert
 os gratuitos\,  de pequeño formato\,  que tienen lugar en diferentes rinco
 nes históricos cada día\,  con una programación protagonizada por[..]\nh
 ttps://www.grada.es/agenda/iii-festival-encuentra-la-musica-en-caceres/var/
 ri-1.l-L1
URL:https://www.grada.es/agenda/iii-festival-encuentra-la-musica-en-caceres/var/ri-1.l-L1
END:VEVENT
END:VCALENDAR