BEGIN:VCALENDAR
VERSION:2.0
PRODID:-//eventon.com NONSGML v1.0//EN
CALSCALE:GREGORIAN
METHOD:PUBLISH
BEGIN:VEVENT
UID:69e8fe5e279db
DTSTAMP:20260422T165910Z
DTSTART:20250913
DTEND:20250914
LOCATION:Ciudad de Plasencia
SUMMARY:XI Plasencia Abierta en Plasencia
DESCRIPTION:La undécima edición de &#8216;Plasencia Abierta&#8217; se cel
 ebra en Plasencia el sábado 13 de septiembre de 2025 con un amplio program
 a de actividades que incluye baile\,  danza\,  juegos\,  teatro\,  circo de
  calle\,  conciertos\,  pasacalles\,  espectáculos de DJs\,  exposiciones\
 ,  animación infantil y visitas guiadas al antiguo convento de las Carmeli
 tas y[..]\nhttps://www.grada.es/agenda/xi-plasencia-abierta-en-plasencia/
URL:https://www.grada.es/agenda/xi-plasencia-abierta-en-plasencia/
END:VEVENT
END:VCALENDAR