BEGIN:VCALENDAR
VERSION:2.0
PRODID:-//eventon.com NONSGML v1.0//EN
CALSCALE:GREGORIAN
METHOD:PUBLISH
BEGIN:VEVENT
UID:69e78051550b7
DTSTAMP:20260421T134905Z
DTSTART:20260421T180000Z
DTEND:20260421T193000Z
LOCATION:Provincia de Badajoz
SUMMARY:XVII Ciclo de Música Actual de Badajoz
DESCRIPTION:Varios emplazamientos de la ciudad de Badajoz y el convento Mad
 re de Dios de Valverde de Leganés acogen entre el 31 de octubre de 2025 y 
 el 21 de abril de 2026 la décimo séptima edición del Ciclo de Música Ac
 tual\,  que ofrece una muestra de diferentes propuestas artísticas dentro[
 ..]\nhttps://www.grada.es/agenda/xvii-ciclo-de-musica-actual-de-badajoz/var
 /ri-8.l-L1
URL:https://www.grada.es/agenda/xvii-ciclo-de-musica-actual-de-badajoz/var/ri-8.l-L1
END:VEVENT
END:VCALENDAR