BEGIN:VCALENDAR
VERSION:2.0
PRODID:-//eventon.com NONSGML v1.0//EN
CALSCALE:GREGORIAN
METHOD:PUBLISH
BEGIN:VEVENT
UID:69ed4ed6e3a0e
DTSTAMP:20260425T233134Z
DTSTART:20260426
DTEND:20260427
LOCATION:Provincia de Badajoz
SUMMARY:V Circuito Provincial de Carreras BTT de la provincia de Badajoz
DESCRIPTION:La Diputación de Badajoz organiza la quinta edición del Circu
 ito Provincial de Carreras BTT\,  que se celebra entre el 25 de enero y el 
 22 de noviembre de 2026 en ocho localidades de la provincia. Se trata de un
  circuito de bicicleta de montaña\,  seis de cuyas pruebas están incluida
 s[..]\nhttps://www.grada.es/agenda/v-circuito-provincial-de-carreras-btt-de
 -la-provincia-de-badajoz/var/ri-2.l-L1
URL:https://www.grada.es/agenda/v-circuito-provincial-de-carreras-btt-de-la-provincia-de-badajoz/var/ri-2.l-L1
END:VEVENT
END:VCALENDAR