BEGIN:VCALENDAR
VERSION:2.0
PRODID:-//eventon.com NONSGML v1.0//EN
CALSCALE:GREGORIAN
METHOD:PUBLISH
BEGIN:VEVENT
UID:69ecc70c0e2af
DTSTAMP:20260425T135212Z
DTSTART:20260425
DTEND:20260426
LOCATION:Los Santos de Maimona
SUMMARY:XI DÃ­a del Cazador ExtremeÃ±o en Los Santos de Maimona
DESCRIPTION:La localidad pacense de Los Santos de Maimona acoge el sÃ¡bado 
 25 de abril de 2026 la undÃ©cima ediciÃ³n del DÃ­a del Cazador ExtremeÃ±o\,
   una cita organizada por la FederaciÃ³n ExtremeÃ±a de Caza que reÃºne a mÃ
 ¡s de 5.000 personas cada aÃ±o. El evento cuenta con la actuaciÃ³n exclusiv
 a en[..]\nhttps://www.grada.es/agenda/xi-dia-del-cazador-extremeno-en-los-s
 antos-de-maimona/
URL:https://www.grada.es/agenda/xi-dia-del-cazador-extremeno-en-los-santos-de-maimona/
END:VEVENT
END:VCALENDAR