BEGIN:VCALENDAR
VERSION:2.0
PRODID:-//eventon.com NONSGML v1.0//EN
CALSCALE:GREGORIAN
METHOD:PUBLISH
BEGIN:VEVENT
UID:69e72f8b9ae33
DTSTAMP:20260421T080427Z
DTSTART:20260218
DTEND:20260219
LOCATION:Provincia de Cáceres
SUMMARY:Programa turístico 'Sabores y paisajes gastronómicos de Tierras de Cáceres y Trujillo' 2026
DESCRIPTION:Las comarcas de Sierra de Montánchez-Tamuja\,  Miajadas-Trujil
 lo y Tajo-Salor-Almonte acogen entre el 17 de febrero y el 2 de marzo de 20
 26 una iniciativa que propone descubrir los paisajes\,  productos y gastron
 omía de estas zonas a través de experiencias\,  degustaciones\,  catas y 
 recorridos guiados. Las visitas forman parte del Plan[..]\nhttps://www.grad
 a.es/agenda/programa-turistico-sabores-y-paisajes-gastronomicos-de-tierras-
 de-caceres-y-trujillo-2026/var/ri-1.l-L1
URL:https://www.grada.es/agenda/programa-turistico-sabores-y-paisajes-gastronomicos-de-tierras-de-caceres-y-trujillo-2026/var/ri-1.l-L1
END:VEVENT
END:VCALENDAR