BEGIN:VCALENDAR
VERSION:2.0
PRODID:-//eventon.com NONSGML v1.0//EN
CALSCALE:GREGORIAN
METHOD:PUBLISH
BEGIN:VEVENT
UID:69e7cd241c11e
DTSTAMP:20260421T191652Z
DTSTART:20260801
DTEND:20260802
LOCATION:Provincia de Badajoz
SUMMARY:VI Circuito provincial de rutas senderistas 'Camina Badajoz'
DESCRIPTION:La Diputación de Badajoz organiza la sexta edición del circui
 to provincial de rutas senderistas ‘Camina Badajoz 2026’\,  que se cele
 bra en 20 localidades de la provincia entre el 1 de marzo y el 22 de noviem
 bre de 2026. Se trata de un circuito de rutas a pie aptas para todas[..]\nh
 ttps://www.grada.es/agenda/vi-circuito-provincial-de-rutas-senderistas-cami
 na-badajoz/var/ri-10.l-L1
URL:https://www.grada.es/agenda/vi-circuito-provincial-de-rutas-senderistas-camina-badajoz/var/ri-10.l-L1
END:VEVENT
END:VCALENDAR