BEGIN:VCALENDAR
VERSION:2.0
PRODID:-//eventon.com NONSGML v1.0//EN
CALSCALE:GREGORIAN
METHOD:PUBLISH
BEGIN:VEVENT
UID:69ea708a4e194
DTSTAMP:20260423T191834Z
DTSTART:20260331
DTEND:20260401
LOCATION:Trujillo
SUMMARY:Semana Santa 2026 de Trujillo
DESCRIPTION:La Semana Santa de Trujillo de 2026 se celebra del 29 de marzo 
 al 4 de abril\,  en una perfecta unión entre la tradición y el legado his
 tórico-artístico y una arquitectura tanto civil como religiosa muy notabl
 e\,  conformando un marco incomparable para las estaciones de Penitencia. E
 s una Semana Santa[..]\nhttps://www.grada.es/agenda/semana-santa-2026-de-tr
 ujillo/var/ri-2.l-L1
URL:https://www.grada.es/agenda/semana-santa-2026-de-trujillo/var/ri-2.l-L1
END:VEVENT
END:VCALENDAR