BEGIN:VCALENDAR
VERSION:2.0
PRODID:-//eventon.com NONSGML v1.0//EN
CALSCALE:GREGORIAN
METHOD:PUBLISH
BEGIN:VEVENT
UID:69e566beb17bf
DTSTAMP:20260419T233526Z
DTSTART:20260421T080000Z
DTEND:20260421T100000Z
LOCATION:Parque de las VII Sillas de Mérida
SUMMARY:II Encuentro intercentros de tertulias literarias dialógicas 'Conectados por la palabra' en Mérida
DESCRIPTION:El Parque de las VII Sillas de Mérida acoge el martes 21 de ab
 ril de 2026\,  a las 10.00 horas\,  la segunda edición del Encuentro inter
 centros de tertulias literarias dialógicas &#8216;Conectados por la palabr
 a&#8217;. Este año participan 44 grupos de tertulia\,  de los cuales 40 co
 rresponden a diversos centros educativos[..]\nhttps://www.grada.es/agenda/i
 i-encuentro-intercentros-de-tertulias-literarias-dialogicas/
URL:https://www.grada.es/agenda/ii-encuentro-intercentros-de-tertulias-literarias-dialogicas/
END:VEVENT
END:VCALENDAR