BEGIN:VCALENDAR
VERSION:2.0
PRODID:-//eventon.com NONSGML v1.0//EN
CALSCALE:GREGORIAN
METHOD:PUBLISH
BEGIN:VEVENT
UID:69ea2656cf91b
DTSTAMP:20260423T140158Z
DTSTART:20260419
DTEND:20260420
LOCATION:Aceuchal
SUMMARY:VII Semana cultural de Aceuchal
DESCRIPTION:La localidad pacense de Aceuchal celebra del 13 al 19 de abril 
 de 2026 la séptima edición de su Semana Cultural\,  con un programa que c
 ombina historia local\,  literatura\,  teatro y actividades para todas las 
 edades. Programación: 13 de abril. Biblioteca Pública Mahizflor 19.00 hor
 as. Inauguración de la exposición ‘Nuestras[..]\nhttps://www.grada.es/a
 genda/vii-semana-cultural-de-aceuchal/var/ri-6.l-L1
URL:https://www.grada.es/agenda/vii-semana-cultural-de-aceuchal/var/ri-6.l-L1
END:VEVENT
END:VCALENDAR