BEGIN:VCALENDAR
VERSION:2.0
PRODID:-//eventon.com NONSGML v1.0//EN
CALSCALE:GREGORIAN
METHOD:PUBLISH
BEGIN:VEVENT
UID:69ecef9cb3a97
DTSTAMP:20260425T164516Z
DTSTART:20260407
DTEND:20260408
LOCATION:El Torno
SUMMARY:Exposición ‘Del arca de tres llaves a la nube’ en El Torno
DESCRIPTION:Foto: Diputación de Cáceres La Casa de Cultura de la localida
 d cacereña de El Torno acoge del 7 al 30 de abril de 2026 la exposición &
 #8216;Del arca de las tres llaves a la nube&#8217;\,  una selección de doc
 umentos históricos que reflejan la evolución administrativa y social del 
 municipio desde[..]\nhttps://www.grada.es/agenda/exposicion-del-arca-de-tre
 s-llaves-a-la-nube-en-el-torno/
URL:https://www.grada.es/agenda/exposicion-del-arca-de-tres-llaves-a-la-nube-en-el-torno/
END:VEVENT
END:VCALENDAR