BEGIN:VCALENDAR
VERSION:2.0
PRODID:-//eventon.com NONSGML v1.0//EN
CALSCALE:GREGORIAN
METHOD:PUBLISH
BEGIN:VEVENT
UID:69e68efc72e09
DTSTAMP:20260420T203924Z
DTSTART:20260421T170000Z
DTEND:20260421T180000Z
LOCATION:Edificio Montesinos22 de Badajoz Calle Montesinos\,  22
SUMMARY:Presentación de ‘Casi una vida’\,  de Justo Vila\,  en Badajoz
DESCRIPTION:El edificio Montesinos22 de Badajoz\,  sede de Fundación CB en
  la ciudad\,  acoge el martes 21 de abril de 2026\,  a las 19.00 horas\,  l
 a presentación del libro ‘Casi una vida’\,  de Justo Vila Izquierdo. E
 n sus páginas se recoge lo más representativo del pensamiento y la sensib
 ilidad de un[..]\nhttps://www.grada.es/agenda/presentacion-de-casi-una-vida
 -de-justo-vila-en-badajoz/
URL:https://www.grada.es/agenda/presentacion-de-casi-una-vida-de-justo-vila-en-badajoz/
END:VEVENT
END:VCALENDAR