BEGIN:VCALENDAR
VERSION:2.0
PRODID:-//eventon.com NONSGML v1.0//EN
CALSCALE:GREGORIAN
METHOD:PUBLISH
BEGIN:VEVENT
UID:69e566beb23e0
DTSTAMP:20260419T233526Z
DTSTART:20260420T170000Z
DTEND:20260420T180000Z
LOCATION:Edificio Montesinos22 de Badajoz Calle Montesinos\,  22
SUMMARY:Conferencia de Daniel J. López en el ciclo 'La educación a debate' en Badajoz
DESCRIPTION:El edificio Montesinos22 de Badajoz\,  sede de Fundación CB en
  la ciudad\,  acoge el lunes 20 de abril de 2026\,  a las 19.00 horas\,  un
 a conferencia de Daniel J. López en el ciclo &#8216;La educación a debate
 &#8217;\,  coorganizado por Fundación Juan Uña. La charla versa sobre el 
 rol docente frente[..]\nhttps://www.grada.es/agenda/conferencia-de-daniel-j
 -lopez-en-el-ciclo-la-educacion-a-debate-en-badajoz/
URL:https://www.grada.es/agenda/conferencia-de-daniel-j-lopez-en-el-ciclo-la-educacion-a-debate-en-badajoz/
END:VEVENT
END:VCALENDAR