BEGIN:VCALENDAR
VERSION:2.0
PRODID:-//eventon.com NONSGML v1.0//EN
CALSCALE:GREGORIAN
METHOD:PUBLISH
BEGIN:VEVENT
UID:69e56703455b6
DTSTAMP:20260419T233635Z
DTSTART:20260420
DTEND:20260421
LOCATION:Cines Victoria de Mérida Centro Comercial El Foro\,  Avenida de Portugal\,  s/n
SUMMARY:XXXIX Ciclo de cine en versión original de Mérida
DESCRIPTION:Los Cines Victoria de Mérida acoge los lunes entre el 13 de ab
 ril y el 25 de mayo de 2026 la trigésimo novena edición del Ciclo de cine
  en versión original\,  organizado por el Cine Club Forum Mérida. El cicl
 o cuenta con la colaboración del Ayuntamiento de Mérida y Cines[..]\nhttp
 s://www.grada.es/agenda/xxxix-ciclo-de-cine-en-version-original-de-merida/v
 ar/ri-1.l-L1
URL:https://www.grada.es/agenda/xxxix-ciclo-de-cine-en-version-original-de-merida/var/ri-1.l-L1
END:VEVENT
END:VCALENDAR