BEGIN:VCALENDAR
VERSION:2.0
PRODID:-//eventon.com NONSGML v1.0//EN
CALSCALE:GREGORIAN
METHOD:PUBLISH
BEGIN:VEVENT
UID:69e4ec3c19d56
DTSTAMP:20260419T145244Z
DTSTART:20260418
DTEND:20260419
LOCATION:Almendral
SUMMARY:X Feria del olivar y el aceite ecológico de Almendral
DESCRIPTION:La localidad pacense de Almendral acoge del 17 al 19 de abril d
 e 2026 la décima edición de la Feria del olivar y del aceite ecológico\,
   encuentro que reúne a productores\,  expertos y empresas para abordar el
  presente y futuro del sector\,  con especial atención a la sostenibilidad
  y la[..]\nhttps://www.grada.es/agenda/x-feria-del-olivar-y-el-aceite-ecolo
 gico-de-almendral/var/ri-1.l-L1
URL:https://www.grada.es/agenda/x-feria-del-olivar-y-el-aceite-ecologico-de-almendral/var/ri-1.l-L1
END:VEVENT
END:VCALENDAR