BEGIN:VCALENDAR
VERSION:2.0
PRODID:-//eventon.com NONSGML v1.0//EN
CALSCALE:GREGORIAN
METHOD:PUBLISH
BEGIN:VEVENT
UID:69e7fc620f884
DTSTAMP:20260421T223826Z
DTSTART:20260423
DTEND:20260424
LOCATION:Pabellón Multiusos de San Vicente de Alcántara C. Parque de España\,  3\,  06500
SUMMARY:VI Feria internacional del corcho 'Ficor 2026' de San Vicente de Alcántara
DESCRIPTION:El Pabellón Multiusos de la localidad pacense de San Vicente d
 e Alcántara acoge del 22 al 24 de abril de 2026 la sexta edición de Ficor
 \,  la Feria internacional del corcho\,  un certamen bienal que reúne a 17
  expositores de empresas corcheras\,  maquinaria agrícola\,  bodegas\,  ar
 tesanía y entidades forestales para[..]\nhttps://www.grada.es/agenda/vi-fe
 ria-internacional-del-corcho-ficor-2026-de-san-vicente-de-alcantara/var/ri-
 1.l-L1
URL:https://www.grada.es/agenda/vi-feria-internacional-del-corcho-ficor-2026-de-san-vicente-de-alcantara/var/ri-1.l-L1
END:VEVENT
END:VCALENDAR