BEGIN:VCALENDAR
VERSION:2.0
PRODID:-//eventon.com NONSGML v1.0//EN
CALSCALE:GREGORIAN
METHOD:PUBLISH
BEGIN:VEVENT
UID:69ecf08009c72
DTSTAMP:20260425T164904Z
DTSTART:20260416
DTEND:20260417
LOCATION:El Corte Inglés de Badajoz Plaza Conquistadores\,  06005
SUMMARY:Exposición 'Ciudades a la deriva. Acuarelas urbanas'\,  de Joaquín Bueno\,  en Badajoz
DESCRIPTION:La Sala de Ámbito Cultural de El Corte Inglés de Badajoz acog
 e del 16 al 29 de abril de 2026 la exposición &#8216;Ciudades a la deriva.
  Acuarelas urbanas&#8217;\,  del artista Joaquín Bueno. La muestra ofrece 
 una selección de acuarelas centradas en paisajes urbanos de Badajoz y otra
 s ciudades con las[..]\nhttps://www.grada.es/agenda/exposicion-ciudades-a-l
 a-deriva-acuarelas-urbanas-de-joaquin-bueno-en-badajoz/
URL:https://www.grada.es/agenda/exposicion-ciudades-a-la-deriva-acuarelas-urbanas-de-joaquin-bueno-en-badajoz/
END:VEVENT
END:VCALENDAR