BEGIN:VCALENDAR
VERSION:2.0
PRODID:-//eventon.com NONSGML v1.0//EN
CALSCALE:GREGORIAN
METHOD:PUBLISH
BEGIN:VEVENT
UID:69ea3ee4da934
DTSTAMP:20260423T154644Z
DTSTART:20260408
DTEND:20260409
LOCATION:Casa de la Cultura de Puebla de la Calzada
SUMMARY:Exposición de marcapáginas en Puebla de la Calzada
DESCRIPTION:Foto: Teodoro Gracia La Casa de la Cultura de Puebla de la Calz
 ada acoge del 8 al 27 de abril de 2026 una exposición de marcapáginas org
 anizada con motivo del Día Mundial del Libro por la Concejalía de Cultura
 \,  la Biblioteca Municipal y la Asociación Cultural de Teatro Jarancio. L
 a[..]\nhttps://www.grada.es/agenda/exposicion-de-marcapaginas-en-puebla-de-
 la-calzada-2026_04/
URL:https://www.grada.es/agenda/exposicion-de-marcapaginas-en-puebla-de-la-calzada-2026_04/
END:VEVENT
END:VCALENDAR