BEGIN:VCALENDAR
VERSION:2.0
PRODID:-//eventon.com NONSGML v1.0//EN
CALSCALE:GREGORIAN
METHOD:PUBLISH
BEGIN:VEVENT
UID:69e902702d4bf
DTSTAMP:20260422T171632Z
DTSTART:20260413
DTEND:20260414
LOCATION:Complejo cultural Santa María de Plasencia Calle Trujillo\,  25
SUMMARY:Exposición 'Yo quiero un novio aceitunero'\,  de Lucía Herrero\,  en Plasencia
DESCRIPTION:Foto: Diputación de Cáceres El complejo cultural Santa María
  de la Diputación de Cáceres en Plasencia acoge del 13 de abril al 17 de 
 mayo de 2026 la exposición &#8216;Yo quiero un novio aceitunero&#8217;\,  
 una propuesta fotográfica de la artista Lucía Herrero que ofrece una rein
 terpretación de la cultura rural[..]\nhttps://www.grada.es/agenda/exposici
 on-yo-quiero-un-novio-aceitunero-de-lucia-herrero-en-plasencia/
URL:https://www.grada.es/agenda/exposicion-yo-quiero-un-novio-aceitunero-de-lucia-herrero-en-plasencia/
END:VEVENT
END:VCALENDAR