BEGIN:VCALENDAR
VERSION:2.0
PRODID:-//eventon.com NONSGML v1.0//EN
CALSCALE:GREGORIAN
METHOD:PUBLISH
BEGIN:VEVENT
UID:69ecc603c22ec
DTSTAMP:20260425T134747Z
DTSTART:20260425
DTEND:20260426
LOCATION:Entrín Bajo
SUMMARY:I Jornada de gastronomía\,  artesanía y comercio local de Entrín Bajo
DESCRIPTION:La localidad pacense de Entrín Bajo acoge el sábado 25 de abr
 il de 2026 la primera edición de la Jornada de gastronomía\,  artesanía 
 y comercio local\,  una cita que pone en valor el producto de proximidad\, 
  reúne a productores\,  artesanos y comercios del municipio y su entorno\,
   y combina gastronomía\, [..]\nhttps://www.grada.es/agenda/i-jornada-de-g
 astronomia-artesania-y-comercio-local-de-entrin-bajo/
URL:https://www.grada.es/agenda/i-jornada-de-gastronomia-artesania-y-comercio-local-de-entrin-bajo/
END:VEVENT
END:VCALENDAR