BEGIN:VCALENDAR
VERSION:2.0
PRODID:-//eventon.com NONSGML v1.0//EN
CALSCALE:GREGORIAN
METHOD:PUBLISH
BEGIN:VEVENT
UID:69ea41c37a5e9
DTSTAMP:20260423T155859Z
DTSTART:20260429
DTEND:20260430
LOCATION:Museo Etnográfico Extremeño &#039;González Santana&#039; de Olivenza
SUMMARY:Exposición 'De todo como en botica' en Olivenza
DESCRIPTION:El Museo Etnográfico Extremeño &#8216;González Santana&#8217
 ; de Olivenza acoge del 29 de abril de 2026 al 27 de septiembre de 2026 una
  exposición sobre elementos de farmacia y medicina conservadas por el Muse
 o\,  con el subtítulo &#8216;De todo como en botica&#8217;. La muestra se 
 centra en el elevado número de[..]\nhttps://www.grada.es/agenda/exposicion
 -de-todo-como-en-botica-en-olivenza/
URL:https://www.grada.es/agenda/exposicion-de-todo-como-en-botica-en-olivenza/
END:VEVENT
END:VCALENDAR