BEGIN:VCALENDAR
VERSION:2.0
PRODID:-//eventon.com NONSGML v1.0//EN
CALSCALE:GREGORIAN
METHOD:PUBLISH
BEGIN:VEVENT
UID:69e566c5582a8
DTSTAMP:20260419T233533Z
DTSTART:20260420
DTEND:20260421
LOCATION:Ciudad de Badajoz
SUMMARY:XVIII Ciclo de música contemporánea de Badajoz
DESCRIPTION:El Conservatorio Superior de Música &#8216;Bonifacio Gil&#8217
 ; de Badajoz organiza entre el 20 y el 28 de abril de 2026 la décimo octav
 a edición del Ciclo de música contemporánea\,  cuyo programa incluye sie
 te conciertos\,  una actividad pedagógica y un ensayo abierto al público\
 ,  todos con entrada gratuita\,  en distintos espacios[..]\nhttps://www.gra
 da.es/agenda/xviii-ciclo-de-musica-contemporanea-de-badajoz/
URL:https://www.grada.es/agenda/xviii-ciclo-de-musica-contemporanea-de-badajoz/
END:VEVENT
END:VCALENDAR