BEGIN:VCALENDAR
VERSION:2.0
PRODID:-//eventon.com NONSGML v1.0//EN
CALSCALE:GREGORIAN
METHOD:PUBLISH
BEGIN:VEVENT
UID:69ecc4fa9ab4a
DTSTAMP:20260425T134322Z
DTSTART:20260425
DTEND:20260426
LOCATION:Provincia de Cáceres
SUMMARY:V Festival de oficios artesanos de la provincia de Cáceres
DESCRIPTION:El Festival de Oficios Artesanos de la Provincia de Cáceres ce
 lebra una nueva edición en seis localidades de la provincia entre el 25 de
  abril y el 26 de septiembre de 2026\,  con una programación centrada en l
 a difusión\,  demostración y participación en oficios tradicionales. Imp
 ulsado por la Diputación de[..]\nhttps://www.grada.es/agenda/v-festival-de
 -oficios-artesanos-de-la-provincia-de-caceres/
URL:https://www.grada.es/agenda/v-festival-de-oficios-artesanos-de-la-provincia-de-caceres/
END:VEVENT
END:VCALENDAR