BEGIN:VCALENDAR
VERSION:2.0
PRODID:-//eventon.com NONSGML v1.0//EN
CALSCALE:GREGORIAN
METHOD:PUBLISH
BEGIN:VEVENT
UID:69e99fce98f4c
DTSTAMP:20260423T042758Z
DTSTART:20260425
DTEND:20260426
LOCATION:Ciudad de Badajoz
SUMMARY:Semana del libro 2026 de Badajoz
DESCRIPTION:Badajoz acoge del 23 al 26 de abril de 2026 una nueva edición 
 de la Semana del Libro con distintas actividades en el Museo de la Ciudad &
 #8216;Luis de Morales&#8217;\,  en el marco del Día del Libro\,  que se ce
 lebra cada 23 de abril. Las actividades comienzan el jueves a[..]\nhttps://
 www.grada.es/agenda/semana-del-libro-2026-de-badajoz/var/ri-2.l-L1
URL:https://www.grada.es/agenda/semana-del-libro-2026-de-badajoz/var/ri-2.l-L1
END:VEVENT
END:VCALENDAR