BEGIN:VCALENDAR
VERSION:2.0
PRODID:-//eventon.com NONSGML v1.0//EN
CALSCALE:GREGORIAN
METHOD:PUBLISH
BEGIN:VEVENT
UID:69e566c69f007
DTSTAMP:20260419T233534Z
DTSTART:20260420T170000Z
DTEND:20260420T180000Z
LOCATION:Pueblonuevo del Guadiana
SUMMARY:Presentación de 'El refranero español. Machismos\,  racismos... y 33 comentarios más'\,  de José Luis Molina\,  en Pueblonuevo del Guadiana
DESCRIPTION:La Biblioteca Pública Municipal de Pueblonuevo del Guadiana ac
 oge el lunes 20 de abril de 2026\,  a las 19.00 horas\,  la presentación d
 el libro &#8216;El refranero español. Machismos\,  racismos&#8230; y 33 co
 mentarios más&#8217;\,  de José Luis Molina Bolaños y editado por Círcu
 lo Rojo\,  que analiza refranes españoles desde una perspectiva[..]\nhttps
 ://www.grada.es/agenda/presentacion-de-el-refranero-espanol-machismos-racis
 mos-y-33-comentarios-mas-de-jose-luis-molina-en-pueblonuevo-del-guadiana/
URL:https://www.grada.es/agenda/presentacion-de-el-refranero-espanol-machismos-racismos-y-33-comentarios-mas-de-jose-luis-molina-en-pueblonuevo-del-guadiana/
END:VEVENT
END:VCALENDAR