BEGIN:VCALENDAR
VERSION:2.0
PRODID:-//eventon.com NONSGML v1.0//EN
CALSCALE:GREGORIAN
METHOD:PUBLISH
BEGIN:VEVENT
UID:69e69088e6a7a
DTSTAMP:20260420T204600Z
DTSTART:20260421T173000Z
DTEND:20260421T183000Z
LOCATION:Cabeza del Buey
SUMMARY:Presentación de 'El refranero español. Machismos\,  racismos... y 33 comentarios más'\,  de José Luis Molina\,  en Cabeza del Buey
DESCRIPTION:La Biblioteca Pública Municipal de Cabeza del Buey acoge el ma
 rtes 21 de abril de 2026\,  a las 19.30 horas\,  la presentación del libro
  &#8216;El refranero español. Machismos\,  racismos&#8230; y 33 comentario
 s más&#8217;\,  de José Luis Molina Bolaños y editado por Círculo Rojo\
 ,  que analiza refranes españoles desde una perspectiva[..]\nhttps://www.g
 rada.es/agenda/presentacion-de-el-refranero-espanol-machismos-racismos-y-33
 -comentarios-mas-de-jose-luis-molina-en-cabeza-del-buey/
URL:https://www.grada.es/agenda/presentacion-de-el-refranero-espanol-machismos-racismos-y-33-comentarios-mas-de-jose-luis-molina-en-cabeza-del-buey/
END:VEVENT
END:VCALENDAR