BEGIN:VCALENDAR
VERSION:2.0
PRODID:-//eventon.com NONSGML v1.0//EN
CALSCALE:GREGORIAN
METHOD:PUBLISH
BEGIN:VEVENT
UID:69e7e86079647
DTSTAMP:20260421T211304Z
DTSTART:20260422T180000Z
DTEND:20260422T190000Z
LOCATION:Guadiana
SUMMARY:Presentación de 'El refranero español. Machismos\,  racismos... y 33 comentarios más'\,  de José Luis Molina\,  en Guadiana
DESCRIPTION:La Casa de la Cultura de Guadiana acoge el miércoles 22 de abr
 il de 2026\,  a las 20.00 horas\,  la presentación del libro &#8216;El ref
 ranero español. Machismos\,  racismos&#8230; y 33 comentarios más&#8217;\
 ,  de José Luis Molina Bolaños y editado por Círculo Rojo\,  que analiza
  refranes españoles desde una perspectiva crítica[..]\nhttps://www.grada.
 es/agenda/presentacion-de-el-refranero-espanol-machismos-racismos-y-33-come
 ntarios-mas-de-jose-luis-molina-en-guadiana/
URL:https://www.grada.es/agenda/presentacion-de-el-refranero-espanol-machismos-racismos-y-33-comentarios-mas-de-jose-luis-molina-en-guadiana/
END:VEVENT
END:VCALENDAR