BEGIN:VCALENDAR
VERSION:2.0
PRODID:-//eventon.com NONSGML v1.0//EN
CALSCALE:GREGORIAN
METHOD:PUBLISH
BEGIN:VEVENT
UID:69e823e2221a2
DTSTAMP:20260422T012658Z
DTSTART:20260422T170000Z
DTEND:20260422T180000Z
LOCATION:Edificio Montesinos22 de Badajoz Calle Montesinos\,  22
SUMMARY:Conferencia 'Crisis climática: estado actual. ¿Se puede hacer algo para frenarla?'\,  de Marcelino Núñez\,  en Badajoz
DESCRIPTION:El edificio Montesinos22 de Badajoz\,  sede de Fundación CB en
  la ciudad\,  acoge el miércoles 22 de abril de 2026\,  a las 19.00 horas\
 ,  la conferencia &#8216;Crisis climática: estado actual. ¿Se puede hacer
  algo para frenarla?&#8217;\,  impartida por el director de la Delegación 
 Territorial en Extremadura de la Agencia Estatal[..]\nhttps://www.grada.es/
 agenda/conferencia-crisis-climatica-estado-actual-se-puede-hacer-algo-para-
 frenarla-de-marcelino-nunez-en-badajoz/
URL:https://www.grada.es/agenda/conferencia-crisis-climatica-estado-actual-se-puede-hacer-algo-para-frenarla-de-marcelino-nunez-en-badajoz/
END:VEVENT
END:VCALENDAR