BEGIN:VCALENDAR
VERSION:2.0
PRODID:-//eventon.com NONSGML v1.0//EN
CALSCALE:GREGORIAN
METHOD:PUBLISH
BEGIN:VEVENT
UID:69eb9e32a4ef6
DTSTAMP:20260424T164538Z
DTSTART:20260424T183000Z
DTEND:20260424T200000Z
LOCATION:Teatro Alkázar de Plasencia Calle Cruz de Santa Ana\,  10600
SUMMARY:Ópera ‘La flauta mágica’ en Plasencia
DESCRIPTION:Foto: Cedida El teatro Alkázar de Plasencia acoge el viernes 2
 4 de abril de 2026\,  a las 20.30 horas la representación de la ópera ‘
 La flauta mágica’\,  de Wolfgang Amadeus Mozart\,  a cargo de Camerata L
 írica de España. ‘Esta obra maestra del llamado ‘Singspiel’\,  estr
 enada con enorme éxito en 1791\, [..]\nhttps://www.grada.es/agenda/opera-l
 a-flauta-magica-en-plasencia/
URL:https://www.grada.es/agenda/opera-la-flauta-magica-en-plasencia/
END:VEVENT
END:VCALENDAR