BEGIN:VCALENDAR
VERSION:2.0
PRODID:-//eventon.com NONSGML v1.0//EN
CALSCALE:GREGORIAN
METHOD:PUBLISH
BEGIN:VEVENT
UID:69eba214a641a
DTSTAMP:20260424T170212Z
DTSTART:20260426T170000Z
DTEND:20260426T183000Z
LOCATION:Teatro María Luisa de Mérida Calle Camilo José Cela\,  11
SUMMARY:Espectáculo flamenco ‘Desplante’\,  de Eduardo Guerrero\,  en Mérida
DESCRIPTION:Foto: Cedida El Teatro María Luisa de Mérida acoge el domingo
  26 de abril de 2026\,  a las 19.00 horas\,  el espectáculo flamenco de Ed
 uardo Guerrero &#8216;Desplante&#8217;\,  que lleva al escenario la jondura
  del cante minero y enlaza con la tradición flamenca desde una mirada actu
 al. Eduardo Guerrero\,  bailaor y[..]\nhttps://www.grada.es/agenda/espectac
 ulo-flamenco-desplante-de-eduardo-guerrero-en-merida/
URL:https://www.grada.es/agenda/espectaculo-flamenco-desplante-de-eduardo-guerrero-en-merida/
END:VEVENT
END:VCALENDAR