BEGIN:VCALENDAR
VERSION:2.0
PRODID:-//eventon.com NONSGML v1.0//EN
CALSCALE:GREGORIAN
METHOD:PUBLISH
BEGIN:VEVENT
UID:69eb15ced19c1
DTSTAMP:20260424T070342Z
DTSTART:20260426
DTEND:20260427
LOCATION:Casa de Cultura de Don Benito Calle Groizard\,  2
SUMMARY:V Concurso nacional de piano ‘Ciudad de Don Benito’
DESCRIPTION:La Casa de Cultura de Don Benito acoge del 24 al 26 de abril de
  2026 la quinta edición del concurso nacional de piano ‘Ciudad de Don Be
 nito’\,  en el que participan 48 pianistas nacionales y extranjeros resid
 entes en España. El certamen se divide en tres niveles: Infantil (hasta 14
 [..]\nhttps://www.grada.es/agenda/v-concurso-nacional-de-piano-ciudad-de-do
 n-benito/var/ri-2.l-L1
URL:https://www.grada.es/agenda/v-concurso-nacional-de-piano-ciudad-de-don-benito/var/ri-2.l-L1
END:VEVENT
END:VCALENDAR