BEGIN:VCALENDAR
VERSION:2.0
PRODID:-//eventon.com NONSGML v1.0//EN
CALSCALE:GREGORIAN
METHOD:PUBLISH
BEGIN:VEVENT
UID:69e823d7a023b
DTSTAMP:20260422T012647Z
DTSTART:20260421T220000Z
DTEND:20260422T215900Z
LOCATION:Provincia de Badajoz
SUMMARY:Programa divulgativo ‘Literatura en mi pueblo 2026’ en la provincia de Badajoz
DESCRIPTION:La Diputación de Badajoz organiza una nueva edición del progr
 ama &#8216;Literatura en mi pueblo&#8217;\,  que se desarrolla en 15 locali
 dades de la provincia de Badajoz entre el 17 de abril y el 13 de noviembre 
 de 2026\,  con la participación de 30 autores\,  dos en cada cita\,  que d
 ialogan con[..]\nhttps://www.grada.es/agenda/programa-divulgativo-literatur
 a-en-mi-pueblo-2026-en-la-provincia-de-badajoz/var/ri-2.l-L1
URL:https://www.grada.es/agenda/programa-divulgativo-literatura-en-mi-pueblo-2026-en-la-provincia-de-badajoz/var/ri-2.l-L1
END:VEVENT
END:VCALENDAR