BEGIN:VCALENDAR
VERSION:2.0
PRODID:-//eventon.com NONSGML v1.0//EN
CALSCALE:GREGORIAN
METHOD:PUBLISH
BEGIN:VEVENT
UID:69e7e841d8dce
DTSTAMP:20260421T211233Z
DTSTART:20260422T173000Z
DTEND:20260422T183000Z
LOCATION:Hospital-Centro Vivo de Badajoz
SUMMARY:Presentación de 'Felicracia. El imperio de la felicidad en Occidente'\,  de Santiago Cambero\,  en Badajoz
DESCRIPTION:El Hospital-Centro Vivo de Badajoz acoge el miércoles 22 de ab
 ril de 2026\,  a las 19.30 horas\,  la presentación del libro &#8216;Felic
 racia. El imperio de la felicidad en Occidente&#8217;\,  de Santiago Camber
 o\,  a modo de diálogo con el público sobre el contenido del ensayo y cue
 stiones de actualidad social. El[..]\nhttps://www.grada.es/agenda/presentac
 ion-de-felicracia-el-imperio-de-la-felicidad-en-occidente-de-santiago-cambe
 ro-en-badajoz/
URL:https://www.grada.es/agenda/presentacion-de-felicracia-el-imperio-de-la-felicidad-en-occidente-de-santiago-cambero-en-badajoz/
END:VEVENT
END:VCALENDAR