BEGIN:VCALENDAR
VERSION:2.0
PRODID:-//eventon.com NONSGML v1.0//EN
CALSCALE:GREGORIAN
METHOD:PUBLISH
BEGIN:VEVENT
UID:69ea23b7eb2b0
DTSTAMP:20260423T135047Z
DTSTART:20260425
DTEND:20260426
LOCATION:Barcarrota
SUMMARY:III Concurso monográfico de Mastín Español de Barcarrota
DESCRIPTION:La finca El Ahijón de Barcarrota acoge el sábado 25 de abril 
 de 2026 la tercera edición del concurso monográfico de Mastín Español\,
   una cita que reúne a criadores y aficionados de todo el país en torno a
  esta raza emblemática\,  combinando competición canina\,  tradición gan
 adera y gastronomía local. El[..]\nhttps://www.grada.es/agenda/iii-concurs
 o-monografico-de-mastin-espanol-de-barcarrota/
URL:https://www.grada.es/agenda/iii-concurso-monografico-de-mastin-espanol-de-barcarrota/
END:VEVENT
END:VCALENDAR