BEGIN:VCALENDAR
VERSION:2.0
PRODID:-//eventon.com NONSGML v1.0//EN
CALSCALE:GREGORIAN
METHOD:PUBLISH
BEGIN:VEVENT
UID:69eaf8666e268
DTSTAMP:20260424T045814Z
DTSTART:20260425
DTEND:20260426
LOCATION:Táliga
SUMMARY:XV Feria ‘Táliga\,  dehesa y toro’
DESCRIPTION:La localidad pacense de Táliga acoge del 24 al 26 de abril de 
 2026 la XV Feria cultural ‘Táliga\,  dehesa y toro’\,  una cita que po
 ne en valor el patrimonio natural\,  la dehesa y las tradiciones taurinas m
 ediante una programación que combina actividades culturales\,  ganaderas y
  musicales. Organizada por el[..]\nhttps://www.grada.es/agenda/xv-feria-tal
 iga-dehesa-y-toro/var/ri-1.l-L1
URL:https://www.grada.es/agenda/xv-feria-taliga-dehesa-y-toro/var/ri-1.l-L1
END:VEVENT
END:VCALENDAR