BEGIN:VCALENDAR
VERSION:2.0
PRODID:-//eventon.com NONSGML v1.0//EN
CALSCALE:GREGORIAN
METHOD:PUBLISH
BEGIN:VEVENT
UID:69eba21477d0b
DTSTAMP:20260424T170212Z
DTSTART:20260423
DTEND:20260424
LOCATION:Avenida de Colón de Badajoz Avenida de Colón
SUMMARY:Exposición ‘Colores del mundo’\,  de National Geographic y La Caixa\,  en Badajoz
DESCRIPTION:Un bacalao largo pasa nadando junto a una estrella de mar giras
 ol de diecinueve brazos Whiskey Point\,  isla de Quadra\,  Columbia Britán
 ica\,  Canadá (2006) Foto: Paul Nicklen La Avenida de Colón de Badajoz ac
 oge del 23 de abril al 4 de junio de 2026 la exposición ‘Colores del mun
 do’\,  de[..]\nhttps://www.grada.es/agenda/exposicion-colores-del-mundo-d
 e-national-geographic-y-la-caixa-en-badajoz/
URL:https://www.grada.es/agenda/exposicion-colores-del-mundo-de-national-geographic-y-la-caixa-en-badajoz/
END:VEVENT
END:VCALENDAR