BEGIN:VCALENDAR
VERSION:2.0
PRODID:-//eventon.com NONSGML v1.0//EN
CALSCALE:GREGORIAN
METHOD:PUBLISH
BEGIN:VEVENT
UID:69ed71fab239b
DTSTAMP:20260426T020130Z
DTSTART:20260426
DTEND:20260427
LOCATION:Higuera de Vargas
SUMMARY:VII Feria de la caza y la gastronomía cinegética de Higuera de Vargas
DESCRIPTION:Higuera de Vargas celebra la VII Feria de la Caza y la Gastrono
 mía Cinegética (FHICAZA) los días 25 y 26 de abril de 2026\,  una cita q
 ue reúne actividades cinegéticas\,  gastronómicas y culturales dirigidas
  a todos los públicos. El evento\,  ya consolidado en el calendario region
 al\,  pone en valor la[..]\nhttps://www.grada.es/agenda/vii-feria-de-la-caz
 a-y-la-gastronomia-cinegetica-de-higuera-de-vargas/var/ri-1.l-L1
URL:https://www.grada.es/agenda/vii-feria-de-la-caza-y-la-gastronomia-cinegetica-de-higuera-de-vargas/var/ri-1.l-L1
END:VEVENT
END:VCALENDAR